BEGIN:VCALENDAR
VERSION:2.0
PRODID:-//Le Son Continu - ECPv6.15.17.1//NONSGML v1.0//EN
CALSCALE:GREGORIAN
METHOD:PUBLISH
X-WR-CALNAME:Le Son Continu
X-ORIGINAL-URL:https://www.lesoncontinu.fr
X-WR-CALDESC:Évènements pour Le Son Continu
REFRESH-INTERVAL;VALUE=DURATION:PT1H
X-Robots-Tag:noindex
X-PUBLISHED-TTL:PT1H
BEGIN:VTIMEZONE
TZID:Europe/Paris
BEGIN:DAYLIGHT
TZOFFSETFROM:+0100
TZOFFSETTO:+0200
TZNAME:CEST
DTSTART:20250330T010000
END:DAYLIGHT
BEGIN:STANDARD
TZOFFSETFROM:+0200
TZOFFSETTO:+0100
TZNAME:CET
DTSTART:20251026T010000
END:STANDARD
BEGIN:DAYLIGHT
TZOFFSETFROM:+0100
TZOFFSETTO:+0200
TZNAME:CEST
DTSTART:20260329T010000
END:DAYLIGHT
BEGIN:STANDARD
TZOFFSETFROM:+0200
TZOFFSETTO:+0100
TZNAME:CET
DTSTART:20261025T010000
END:STANDARD
BEGIN:DAYLIGHT
TZOFFSETFROM:+0100
TZOFFSETTO:+0200
TZNAME:CEST
DTSTART:20270328T010000
END:DAYLIGHT
BEGIN:STANDARD
TZOFFSETFROM:+0200
TZOFFSETTO:+0100
TZNAME:CET
DTSTART:20271031T010000
END:STANDARD
END:VTIMEZONE
BEGIN:VEVENT
DTSTART;TZID=Europe/Paris:20260714T230000
DTEND;TZID=Europe/Paris:20260715T003000
DTSTAMP:20260419T161911
CREATED:20260331T085953Z
LAST-MODIFIED:20260331T085953Z
UID:6662-1784070000-1784075400@www.lesoncontinu.fr
SUMMARY:Startijenn
DESCRIPTION:Groupe emblématique de la transe bretonne\, Startijenn se dévoile ici sous un jour nouveau\, en réussissant le tour de force d’être à la fois grand public et expérimental. Il illustre à sa manière une identité musicale bretonne moderne et incisive : des compositions originales\, sensibles et vibrantes\, dans un mix de musiques actuelles et ancestrales. \nYouenn Roue : bombarde\, voix – Lionel Le Page : biniou\, uillean-pipes – Tangi Le Gall-Carré : accordéon diatonique – Tangi Oillo : guitare – Julien Stévenin : basse
URL:https://www.lesoncontinu.fr/event/startijenn/
LOCATION:La Pommeraie\, France
CATEGORIES:La pommeraie
ATTACH;FMTTYPE=image/jpeg:https://www.lesoncontinu.fr/wp-content/uploads/2026/03/Startijenn_HD4715©-Eric-Legret.jpg
END:VEVENT
BEGIN:VEVENT
DTSTART;TZID=Europe/Paris:20260714T233000
DTEND;TZID=Europe/Paris:20260715T010000
DTSTAMP:20260419T161911
CREATED:20260331T091930Z
LAST-MODIFIED:20260331T091930Z
UID:6697-1784071800-1784077200@www.lesoncontinu.fr
SUMMARY:Dragon Flowers
DESCRIPTION:Construit autour du violon chinois\, Dragon Flower est un mariage de timbres inédit pour une complicité inspirée de ces cinq musiciens\, au service d’une musique qui place la rencontre et l’authenticité au coeur de ses aspirations. Le groupe allie la douceur et la poésie d’une mazurka « au delà de nuages » et l’énergie d’une scottish dragonnienne et aventureuse. Le groupe propose un bal coloré et plein de contraste\, où les danses et la musique s’unissent pour un voyage aux contrées inconnues. \nLi’ang Zhao : violon Erhu – Jonathan Balmefrézol : saxophones – Aymerick Tron : accordéon – Yves Perrin : guitares\, basse – Matheo Ciesla : batterie – Nicolas Panek : ingénieur son
URL:https://www.lesoncontinu.fr/event/dragon-flowers/
LOCATION:La Cour du Château
CATEGORIES:La Cour du Château
ATTACH;FMTTYPE=image/png:https://www.lesoncontinu.fr/wp-content/uploads/2026/03/Dragon-Flowers_Nuages.png
END:VEVENT
END:VCALENDAR